BEGIN:VCALENDAR
VERSION:2.0
PRODID:icalendar-ruby
CALSCALE:GREGORIAN
METHOD:PUBLISH
BEGIN:VEVENT
DTSTAMP:20260426T000851Z
UID:1c990374-fdae-49f9-959a-f63ccaf026b2
DTSTART;VALUE=DATE:20211106
DTEND;VALUE=DATE:20211106
DESCRIPTION:Smith Rock BMX
LOCATION:1935 Ne Maple  Redmond OR 97756 USA
SUMMARY:Local Race Single
URL:/site/bmx_races/481563
END:VEVENT
END:VCALENDAR
