BEGIN:VCALENDAR
VERSION:2.0
PRODID:icalendar-ruby
CALSCALE:GREGORIAN
METHOD:PUBLISH
BEGIN:VEVENT
DTSTAMP:20260425T011724Z
UID:0a714f66-9847-4cc1-b54b-205bdf1df62c
DTSTART;VALUE=DATE:20211113
DTEND;VALUE=DATE:20211113
DESCRIPTION:Apple Valley BMX Moto Park
LOCATION:24320 Highway 18  Apple Valley CA 92307 USA
SUMMARY:Local Race Single
URL:/site/bmx_races/481515
END:VEVENT
END:VCALENDAR
