BEGIN:VCALENDAR
VERSION:2.0
PRODID:icalendar-ruby
CALSCALE:GREGORIAN
METHOD:PUBLISH
BEGIN:VEVENT
DTSTAMP:20260424T115538Z
UID:af2eeb1e-7c52-4d2e-a26f-720eeb7a5204
DTSTART;VALUE=DATE:20211123
DTEND;VALUE=DATE:20211123
DESCRIPTION:Sarasota BMX
LOCATION:1590 North Tuttle Avenue  Sarasota FL 34237 USA
SUMMARY:Local Race Single
URL:/site/bmx_races/481299
END:VEVENT
END:VCALENDAR
