BEGIN:VCALENDAR
VERSION:2.0
PRODID:icalendar-ruby
CALSCALE:GREGORIAN
METHOD:PUBLISH
BEGIN:VEVENT
DTSTAMP:20260424T175216Z
UID:870eb97d-c101-4f26-8708-fd31514a011e
DTSTART;VALUE=DATE:20211029
DTEND;VALUE=DATE:20211029
DESCRIPTION:Rusty Bowl BMX
LOCATION:1281 E Gobbi St  Ukiah CA 95482 USA
SUMMARY:Local Race Single
URL:/site/bmx_races/481067
END:VEVENT
END:VCALENDAR
