BEGIN:VCALENDAR
VERSION:2.0
PRODID:icalendar-ruby
CALSCALE:GREGORIAN
METHOD:PUBLISH
BEGIN:VEVENT
DTSTAMP:20260424T090137Z
UID:94383d8f-6e0b-4555-8fae-a70ff3a04b75
DTSTART;VALUE=DATE:20220811
DTEND;VALUE=DATE:20220811
DESCRIPTION:Akron BMX
LOCATION:800 Derby Downs Drive  Akron OH 44306 USA
SUMMARY:Local Race Single
URL:/site/bmx_races/480828
END:VEVENT
END:VCALENDAR
