BEGIN:VCALENDAR
VERSION:2.0
PRODID:icalendar-ruby
CALSCALE:GREGORIAN
METHOD:PUBLISH
BEGIN:VEVENT
DTSTAMP:20260424T143932Z
UID:9494c558-fd15-49f0-be93-87737414a9d1
DTSTART;VALUE=DATE:20211002
DTEND;VALUE=DATE:20211002
DESCRIPTION:Sports Park BMX
LOCATION:6901 N Casa Grande Highway  Tucson AZ 85743 USA
SUMMARY:Local Race Single
URL:/site/bmx_races/480474
END:VEVENT
END:VCALENDAR
