BEGIN:VCALENDAR
VERSION:2.0
PRODID:icalendar-ruby
CALSCALE:GREGORIAN
METHOD:PUBLISH
BEGIN:VEVENT
DTSTAMP:20260424T092520Z
UID:a103dc69-d711-41cf-b6b4-e440daa95031
DTSTART;VALUE=DATE:20211024
DTEND;VALUE=DATE:20211024
DESCRIPTION:Central Wisconsin BMX
LOCATION:2220 E Riverview Expy\,  Wisconsin Rapids WI 54494 USA
SUMMARY:Local Race Single
URL:/site/bmx_races/480457
END:VEVENT
END:VCALENDAR
