BEGIN:VCALENDAR
VERSION:2.0
PRODID:icalendar-ruby
CALSCALE:GREGORIAN
METHOD:PUBLISH
BEGIN:VEVENT
DTSTAMP:20260424T105741Z
UID:ec8c00e4-6ab3-49e6-93e3-0d65001cc76d
DTSTART;VALUE=DATE:20211126
DTEND;VALUE=DATE:20211126
DESCRIPTION:Colorado River BMX
LOCATION:2230 Highland Dr  Bullhead City AZ 86442 USA
SUMMARY:Local Race Single
URL:/site/bmx_races/480230
END:VEVENT
END:VCALENDAR
