BEGIN:VCALENDAR
VERSION:2.0
PRODID:icalendar-ruby
CALSCALE:GREGORIAN
METHOD:PUBLISH
BEGIN:VEVENT
DTSTAMP:20260424T220233Z
UID:011405c7-d395-4361-aa45-dbe4fa6ddb22
DTSTART;VALUE=DATE:20220219
DTEND;VALUE=DATE:20220219
DESCRIPTION:Idaho Indoor BMX
LOCATION:111 S 22nd St  Caldwell ID 83605 USA
SUMMARY:Local Race Single
URL:/site/bmx_races/480171
END:VEVENT
END:VCALENDAR
