BEGIN:VCALENDAR
VERSION:2.0
PRODID:icalendar-ruby
CALSCALE:GREGORIAN
METHOD:PUBLISH
BEGIN:VEVENT
DTSTAMP:20260425T115225Z
UID:a3a5d09d-00c3-4f62-a6db-48e8f93a7f5d
DTSTART;VALUE=DATE:20220205
DTEND;VALUE=DATE:20220205
DESCRIPTION:Air Time BMX
LOCATION:5051 S Frankwood Ave  Reedley CA 93654 USA
SUMMARY:Local Race Single
URL:/site/bmx_races/479803
END:VEVENT
END:VCALENDAR
