BEGIN:VCALENDAR
VERSION:2.0
PRODID:icalendar-ruby
CALSCALE:GREGORIAN
METHOD:PUBLISH
BEGIN:VEVENT
DTSTAMP:20260424T143852Z
UID:c870f7ce-8183-4e1c-bd8d-a50f161cafc3
DTSTART;VALUE=DATE:20220125
DTEND;VALUE=DATE:20220125
DESCRIPTION:Air Time BMX
LOCATION:5051 S Frankwood Ave  Reedley CA 93654 USA
SUMMARY:Local Race Single
URL:/site/bmx_races/479800
END:VEVENT
END:VCALENDAR
