BEGIN:VCALENDAR
VERSION:2.0
PRODID:icalendar-ruby
CALSCALE:GREGORIAN
METHOD:PUBLISH
BEGIN:VEVENT
DTSTAMP:20260424T101327Z
UID:05aa8ace-a309-4fc3-b749-f97b9b03c7c5
DTSTART;VALUE=DATE:20220528
DTEND;VALUE=DATE:20220528
DESCRIPTION:Imagination Glen BMX
LOCATION:2190 N State Rd 149  Portage IN 46304 USA
SUMMARY:Local Race Single
URL:/site/bmx_races/479349
END:VEVENT
END:VCALENDAR
