BEGIN:VCALENDAR
VERSION:2.0
PRODID:icalendar-ruby
CALSCALE:GREGORIAN
METHOD:PUBLISH
BEGIN:VEVENT
DTSTAMP:20260424T154656Z
UID:45a1512a-e870-49df-ab0c-9c2c1469ceb3
DTSTART;VALUE=DATE:20211016
DTEND;VALUE=DATE:20211016
DESCRIPTION:Chehalem Valley BMX
LOCATION:1201 Blaine St  Newberg OR 97132 USA
SUMMARY:Local Race Single
URL:/site/bmx_races/479138
END:VEVENT
END:VCALENDAR
