BEGIN:VCALENDAR
VERSION:2.0
PRODID:icalendar-ruby
CALSCALE:GREGORIAN
METHOD:PUBLISH
BEGIN:VEVENT
DTSTAMP:20260424T161741Z
UID:94e06c24-ce94-44a8-98d8-f04853240bd1
DTSTART;VALUE=DATE:20211211
DTEND;VALUE=DATE:20211211
DESCRIPTION:Bowie BMX
LOCATION:801 South Mill Street  Bowie TX 76230 USA
SUMMARY:Local Race Single
URL:/site/bmx_races/478624
END:VEVENT
END:VCALENDAR
