BEGIN:VCALENDAR
VERSION:2.0
PRODID:icalendar-ruby
CALSCALE:GREGORIAN
METHOD:PUBLISH
BEGIN:VEVENT
DTSTAMP:20260424T115805Z
UID:363b4255-3ca0-4c80-9bc2-2f0d7a297c83
DTSTART;VALUE=DATE:20220928
DTEND;VALUE=DATE:20220928
DESCRIPTION:Speedway BMX
LOCATION:5639 Benore  Toledo OH 43612 USA
SUMMARY:Local Race Single
URL:/site/bmx_races/478502
END:VEVENT
END:VCALENDAR
