BEGIN:VCALENDAR
VERSION:2.0
PRODID:icalendar-ruby
CALSCALE:GREGORIAN
METHOD:PUBLISH
BEGIN:VEVENT
DTSTAMP:20260425T131144Z
UID:01b954d4-e2d4-4dd7-9ecc-9bdd21c0de22
DTSTART;VALUE=DATE:20210928
DTEND;VALUE=DATE:20210928
DESCRIPTION:Air Time BMX
LOCATION:5051 S Frankwood Ave  Reedley CA 93654 USA
SUMMARY:Race for Life Single
URL:/site/bmx_races/478018
END:VEVENT
END:VCALENDAR
