BEGIN:VCALENDAR
VERSION:2.0
PRODID:icalendar-ruby
CALSCALE:GREGORIAN
METHOD:PUBLISH
BEGIN:VEVENT
DTSTAMP:20260424T234233Z
UID:e04cdfc3-76f8-4666-b79c-e0952632bcad
DTSTART;VALUE=DATE:20210921
DTEND;VALUE=DATE:20210921
DESCRIPTION:Apple Valley BMX Moto Park
LOCATION:24320 Highway 18  Apple Valley CA 92307 USA
SUMMARY:Local Race Single
URL:/site/bmx_races/477804
END:VEVENT
END:VCALENDAR
