BEGIN:VCALENDAR
VERSION:2.0
PRODID:icalendar-ruby
CALSCALE:GREGORIAN
METHOD:PUBLISH
BEGIN:VEVENT
DTSTAMP:20260424T071020Z
UID:8d28b337-b538-4850-88cf-03c7467c4e4d
DTSTART;VALUE=DATE:20211106
DTEND;VALUE=DATE:20211106
DESCRIPTION:Speedway BMX
LOCATION:5639 Benore  Toledo OH 43612 USA
SUMMARY:Earned Double
URL:/site/bmx_races/477528
END:VEVENT
END:VCALENDAR
