BEGIN:VCALENDAR
VERSION:2.0
PRODID:icalendar-ruby
CALSCALE:GREGORIAN
METHOD:PUBLISH
BEGIN:VEVENT
DTSTAMP:20260424T190113Z
UID:f01649d2-199c-4f6d-9452-0342700fef3b
DTSTART;VALUE=DATE:20220522
DTEND;VALUE=DATE:20220522
DESCRIPTION:Woodward Park BMX
LOCATION:7775 N Friant Rd  Fresno CA 93720 USA
SUMMARY:Local Race Single
URL:/site/bmx_races/477472
END:VEVENT
END:VCALENDAR
