BEGIN:VCALENDAR
VERSION:2.0
PRODID:icalendar-ruby
CALSCALE:GREGORIAN
METHOD:PUBLISH
BEGIN:VEVENT
DTSTAMP:20260424T120049Z
UID:05921587-0e44-4f6b-97bc-c3385327cd7e
DTSTART;VALUE=DATE:20220410
DTEND;VALUE=DATE:20220410
DESCRIPTION:Woodward Park BMX
LOCATION:7775 N Friant Rd  Fresno CA 93720 USA
SUMMARY:Local Race Single
URL:/site/bmx_races/477460
END:VEVENT
END:VCALENDAR
