BEGIN:VCALENDAR
VERSION:2.0
PRODID:icalendar-ruby
CALSCALE:GREGORIAN
METHOD:PUBLISH
BEGIN:VEVENT
DTSTAMP:20260425T010823Z
UID:198c7931-721c-4f90-9850-88ee937166fa
DTSTART;VALUE=DATE:20210903
DTEND;VALUE=DATE:20210903
DESCRIPTION:Apple Valley BMX Moto Park
LOCATION:24320 Highway 18  Apple Valley CA 92307 USA
SUMMARY:Local Race Single
URL:/site/bmx_races/477205
END:VEVENT
END:VCALENDAR
