BEGIN:VCALENDAR
VERSION:2.0
PRODID:icalendar-ruby
CALSCALE:GREGORIAN
METHOD:PUBLISH
BEGIN:VEVENT
DTSTAMP:20260425T024636Z
UID:79083fc5-ff64-4531-83fb-4f518cebfd6a
DTSTART;VALUE=DATE:20220821
DTEND;VALUE=DATE:20220821
DESCRIPTION:Bakerview BMX
LOCATION:3101 E Fir Street  Mt. Vernon WA 98273 USA
SUMMARY:Local Race Single
URL:/site/bmx_races/477171
END:VEVENT
END:VCALENDAR
