BEGIN:VCALENDAR
VERSION:2.0
PRODID:icalendar-ruby
CALSCALE:GREGORIAN
METHOD:PUBLISH
BEGIN:VEVENT
DTSTAMP:20260426T040113Z
UID:dc1f4fb1-5dbb-46ce-b2a2-7e5c785754f0
DTSTART;VALUE=DATE:20211120
DTEND;VALUE=DATE:20211120
DESCRIPTION:Cape Coral BMX
LOCATION:1410 Sw 6th Place  Cape Coral FL 33991 USA
SUMMARY:Local Race Single
URL:/site/bmx_races/477099
END:VEVENT
END:VCALENDAR
