BEGIN:VCALENDAR
VERSION:2.0
PRODID:icalendar-ruby
CALSCALE:GREGORIAN
METHOD:PUBLISH
BEGIN:VEVENT
DTSTAMP:20260425T214820Z
UID:388025e3-1ff2-4ce1-88e6-63a0d46c1a49
DTSTART;VALUE=DATE:20211030
DTEND;VALUE=DATE:20211030
DESCRIPTION:Cape Coral BMX
LOCATION:1410 Sw 6th Place  Cape Coral FL 33991 USA
SUMMARY:Local Race Single
URL:/site/bmx_races/477080
END:VEVENT
END:VCALENDAR
