BEGIN:VCALENDAR
VERSION:2.0
PRODID:icalendar-ruby
CALSCALE:GREGORIAN
METHOD:PUBLISH
BEGIN:VEVENT
DTSTAMP:20260425T024541Z
UID:f1288600-4284-480b-972a-761897b2711f
DTSTART;VALUE=DATE:20211019
DTEND;VALUE=DATE:20211019
DESCRIPTION:Okeeheelee BMX
LOCATION:8145 Forest Hill Blvd  West Palm Beach FL 33413 USA
SUMMARY:Local Race Single
URL:/site/bmx_races/476325
END:VEVENT
END:VCALENDAR
