BEGIN:VCALENDAR
VERSION:2.0
PRODID:icalendar-ruby
CALSCALE:GREGORIAN
METHOD:PUBLISH
BEGIN:VEVENT
DTSTAMP:20260424T080017Z
UID:73a6848f-0061-43da-9f3e-3eb1978398b4
DTSTART;VALUE=DATE:20211012
DTEND;VALUE=DATE:20211012
DESCRIPTION:Okeeheelee BMX
LOCATION:8145 Forest Hill Blvd  West Palm Beach FL 33413 USA
SUMMARY:Local Race Single
URL:/site/bmx_races/476324
END:VEVENT
END:VCALENDAR
