BEGIN:VCALENDAR
VERSION:2.0
PRODID:icalendar-ruby
CALSCALE:GREGORIAN
METHOD:PUBLISH
BEGIN:VEVENT
DTSTAMP:20260425T113721Z
UID:4822ee59-90d4-479a-afee-9afae77d2d67
DTSTART;VALUE=DATE:20211013
DTEND;VALUE=DATE:20211013
DESCRIPTION:Bethel Supercross BMX
LOCATION:162 Old Hawleyville Rd  Bethel CT 06801 USA
SUMMARY:Local Race Single
URL:/site/bmx_races/476297
END:VEVENT
END:VCALENDAR
