BEGIN:VCALENDAR
VERSION:2.0
PRODID:icalendar-ruby
CALSCALE:GREGORIAN
METHOD:PUBLISH
BEGIN:VEVENT
DTSTAMP:20260424T141745Z
UID:6bf3ec60-c624-4238-a5da-4c6b54ebac3a
DTSTART;VALUE=DATE:20210815
DTEND;VALUE=DATE:20210815
DESCRIPTION:Yucaipa BMX
LOCATION:32750 Thunderbird Way  Yucaipa CA 92399 USA
SUMMARY:State Race Triple
URL:/site/bmx_races/476129
END:VEVENT
END:VCALENDAR
