BEGIN:VCALENDAR
VERSION:2.0
PRODID:icalendar-ruby
CALSCALE:GREGORIAN
METHOD:PUBLISH
BEGIN:VEVENT
DTSTAMP:20260426T003841Z
UID:9b7126d3-1e79-450d-849e-5694a04370a9
DTSTART;VALUE=DATE:20210816
DTEND;VALUE=DATE:20210816
DESCRIPTION:Cactus Park BMX
LOCATION:10610 Ashwood St  Lakeside CA 92040 USA
SUMMARY:Local Race Single
URL:/site/bmx_races/476040
END:VEVENT
END:VCALENDAR
