BEGIN:VCALENDAR
VERSION:2.0
PRODID:icalendar-ruby
CALSCALE:GREGORIAN
METHOD:PUBLISH
BEGIN:VEVENT
DTSTAMP:20260424T125318Z
UID:0e58951f-8935-49ee-9cb1-6c71a228f720
DTSTART;VALUE=DATE:20210821
DTEND;VALUE=DATE:20210821
DESCRIPTION:Lake Havasu City BMX
LOCATION:7260 Mc Culloch Blvd S. #B  Lake Havasu City AZ 86406 USA
SUMMARY:Warnicke Single
URL:/site/bmx_races/475929
END:VEVENT
END:VCALENDAR
