BEGIN:VCALENDAR
VERSION:2.0
PRODID:icalendar-ruby
CALSCALE:GREGORIAN
METHOD:PUBLISH
BEGIN:VEVENT
DTSTAMP:20260424T202437Z
UID:e1b25141-e547-4169-934d-7139acd8a2d9
DTSTART;VALUE=DATE:20210918
DTEND;VALUE=DATE:20210918
DESCRIPTION:Greater Victoria BMX
LOCATION:1767 Island Hwy  Victoria BC V9B 1J1 CAN
SUMMARY:Local Race Single
URL:/site/bmx_races/475852
END:VEVENT
END:VCALENDAR
