BEGIN:VCALENDAR
VERSION:2.0
PRODID:icalendar-ruby
CALSCALE:GREGORIAN
METHOD:PUBLISH
BEGIN:VEVENT
DTSTAMP:20260424T215413Z
UID:fd18c01f-951a-445f-bbf4-611c5d4bdf8d
DTSTART;VALUE=DATE:20210731
DTEND;VALUE=DATE:20210731
DESCRIPTION:Rogue Valley BMX
LOCATION:Highland Drive  Medford OR 97504 USA
SUMMARY:Local Race Single
URL:/site/bmx_races/475670
END:VEVENT
END:VCALENDAR
