BEGIN:VCALENDAR
VERSION:2.0
PRODID:icalendar-ruby
CALSCALE:GREGORIAN
METHOD:PUBLISH
BEGIN:VEVENT
DTSTAMP:20260424T144654Z
UID:af42cbf8-867f-4948-98b2-d12c13366971
DTSTART;VALUE=DATE:20211204
DTEND;VALUE=DATE:20211204
DESCRIPTION:Freedom Park BMX Raceway
LOCATION:530 Convair St  Camarillo CA 93010 USA
SUMMARY:Local Race Single
URL:/site/bmx_races/475535
END:VEVENT
END:VCALENDAR
