BEGIN:VCALENDAR
VERSION:2.0
PRODID:icalendar-ruby
CALSCALE:GREGORIAN
METHOD:PUBLISH
BEGIN:VEVENT
DTSTAMP:20260424T212617Z
UID:78e28bcb-39a7-4447-bdbd-f2ffabd7bd1e
DTSTART;VALUE=DATE:20210904
DTEND;VALUE=DATE:20210904
DESCRIPTION:Lemoore BMX Raceway
LOCATION: 1750 Ca 41  Lemoore CA 93245 USA
SUMMARY:Earned Double
URL:/site/bmx_races/475520
END:VEVENT
END:VCALENDAR
