BEGIN:VCALENDAR
VERSION:2.0
PRODID:icalendar-ruby
CALSCALE:GREGORIAN
METHOD:PUBLISH
BEGIN:VEVENT
DTSTAMP:20260425T225838Z
UID:369361a6-ce06-4434-a592-73c6a6221d9c
DTSTART;VALUE=DATE:20210804
DTEND;VALUE=DATE:20210804
DESCRIPTION:Stouffville BMX
LOCATION:3291 Stouffville Rd  Whitchurch-Stouffville ON L4A7X5 CAN
SUMMARY:Local Race Single
URL:/site/bmx_races/475380
END:VEVENT
END:VCALENDAR
