BEGIN:VCALENDAR
VERSION:2.0
PRODID:icalendar-ruby
CALSCALE:GREGORIAN
METHOD:PUBLISH
BEGIN:VEVENT
DTSTAMP:20260424T063226Z
UID:95056cf1-b989-4fd6-a919-bbba158dd14b
DTSTART;VALUE=DATE:20210725
DTEND;VALUE=DATE:20210725
DESCRIPTION:ORL BMX
LOCATION:4801 W Colonial Dr  Orlando FL 32808 USA
SUMMARY:Gold Cup Qualifier Triple
URL:/site/bmx_races/475257
END:VEVENT
END:VCALENDAR
