BEGIN:VCALENDAR
VERSION:2.0
PRODID:icalendar-ruby
CALSCALE:GREGORIAN
METHOD:PUBLISH
BEGIN:VEVENT
DTSTAMP:20260424T185944Z
UID:5d93ec67-7664-471f-abbf-d5a724e27528
DTSTART;VALUE=DATE:20210728
DTEND;VALUE=DATE:20210728
DESCRIPTION:Yucca Valley BMX
LOCATION:6989 Sage Ave  Yucca Valley CA 92234 USA
SUMMARY:Local Race Single
URL:/site/bmx_races/475256
END:VEVENT
END:VCALENDAR
