BEGIN:VCALENDAR
VERSION:2.0
PRODID:icalendar-ruby
CALSCALE:GREGORIAN
METHOD:PUBLISH
BEGIN:VEVENT
DTSTAMP:20260424T175249Z
UID:3ade3f3c-ce41-422d-8ec9-f7e1c795d3c3
DTSTART;VALUE=DATE:20210717
DTEND;VALUE=DATE:20210717
DESCRIPTION:Richmond BMX
LOCATION:4401 Hobbs Lane   Next To Church Richmond VA 23231 USA
SUMMARY:Local Race Single
URL:/site/bmx_races/475050
END:VEVENT
END:VCALENDAR
