BEGIN:VCALENDAR
VERSION:2.0
PRODID:icalendar-ruby
CALSCALE:GREGORIAN
METHOD:PUBLISH
BEGIN:VEVENT
DTSTAMP:20260424T121330Z
UID:d29f9f20-4be1-4e0c-b1e6-19529dbe7228
DTSTART;VALUE=DATE:20210829
DTEND;VALUE=DATE:20210829
DESCRIPTION:Mile High BMX
LOCATION:3606 S Independence St  Denver CO 80235 USA
SUMMARY:State Race Double
URL:/site/bmx_races/474916
END:VEVENT
END:VCALENDAR
