BEGIN:VCALENDAR
VERSION:2.0
PRODID:icalendar-ruby
CALSCALE:GREGORIAN
METHOD:PUBLISH
BEGIN:VEVENT
DTSTAMP:20260424T201421Z
UID:030790b2-3a37-4773-8592-82a56f70e579
DTSTART;VALUE=DATE:20211007
DTEND;VALUE=DATE:20211007
DESCRIPTION:Emerald Valley BMX
LOCATION:2715 Leo Harris Pkwy  Eugene OR 97402 USA
SUMMARY:Local Race Single
URL:/site/bmx_races/474751
END:VEVENT
END:VCALENDAR
