BEGIN:VCALENDAR
VERSION:2.0
PRODID:icalendar-ruby
CALSCALE:GREGORIAN
METHOD:PUBLISH
BEGIN:VEVENT
DTSTAMP:20260424T201423Z
UID:e0edf524-f8c0-4bdb-901a-17a20c11f330
DTSTART;VALUE=DATE:20210906
DTEND;VALUE=DATE:20210906
DESCRIPTION:Emerald Valley BMX
LOCATION:2715 Leo Harris Pkwy  Eugene OR 97402 USA
SUMMARY:Local Race Single
URL:/site/bmx_races/474740
END:VEVENT
END:VCALENDAR
