BEGIN:VCALENDAR
VERSION:2.0
PRODID:icalendar-ruby
CALSCALE:GREGORIAN
METHOD:PUBLISH
BEGIN:VEVENT
DTSTAMP:20260424T090209Z
UID:229761a4-3858-4932-9ab0-da977bc8913b
DTSTART;VALUE=DATE:20210807
DTEND;VALUE=DATE:20210807
DESCRIPTION:South Lake Tahoe BMX
LOCATION:1201 Al Tahoe Blvd.  South Lake Tahoe CA 96150 USA
SUMMARY:State Race Double
URL:/site/bmx_races/474640
END:VEVENT
END:VCALENDAR
