BEGIN:VCALENDAR
VERSION:2.0
PRODID:icalendar-ruby
CALSCALE:GREGORIAN
METHOD:PUBLISH
BEGIN:VEVENT
DTSTAMP:20260424T143739Z
UID:938eecd9-a0bb-418a-a6da-71b0c6cb121a
DTSTART;VALUE=DATE:20210711
DTEND;VALUE=DATE:20210711
DESCRIPTION:Electric City BMX
LOCATION:1200 21st Ave So  Great Falls MT 59405 USA
SUMMARY:Local Race Single
URL:/site/bmx_races/474548
END:VEVENT
END:VCALENDAR
