BEGIN:VCALENDAR
VERSION:2.0
PRODID:icalendar-ruby
CALSCALE:GREGORIAN
METHOD:PUBLISH
BEGIN:VEVENT
DTSTAMP:20260424T120141Z
UID:00d51c66-9b7a-4978-b2da-4e7966034402
DTSTART;VALUE=DATE:20210826
DTEND;VALUE=DATE:20210826
DESCRIPTION:NWA BMX
LOCATION:801 Mc Clure Ave  Lowell AR 72745 USA
SUMMARY:Local Race Single
URL:/site/bmx_races/474412
END:VEVENT
END:VCALENDAR
