BEGIN:VCALENDAR
VERSION:2.0
PRODID:icalendar-ruby
CALSCALE:GREGORIAN
METHOD:PUBLISH
BEGIN:VEVENT
DTSTAMP:20260425T024616Z
UID:373fca35-8fcf-426b-a96c-4628220e12e6
DTSTART;VALUE=DATE:20210710
DTEND;VALUE=DATE:20210710
DESCRIPTION:Northern Virginia (NOVA) BMX
LOCATION:7 County Complex Court  Woodbridge VA 22192 USA
SUMMARY:Local Race Single
URL:/site/bmx_races/473544
END:VEVENT
END:VCALENDAR
