BEGIN:VCALENDAR
VERSION:2.0
PRODID:icalendar-ruby
CALSCALE:GREGORIAN
METHOD:PUBLISH
BEGIN:VEVENT
DTSTAMP:20260424T203830Z
UID:b04566bf-df74-4a26-9bb4-bb4b20355cea
DTSTART;VALUE=DATE:20210702
DTEND;VALUE=DATE:20210702
DESCRIPTION:River Valley BMX
LOCATION:7800 Riverside Rd E  Sumner WA 98360 USA
SUMMARY:Local Race Single
URL:/site/bmx_races/473530
END:VEVENT
END:VCALENDAR
