BEGIN:VCALENDAR
VERSION:2.0
PRODID:icalendar-ruby
CALSCALE:GREGORIAN
METHOD:PUBLISH
BEGIN:VEVENT
DTSTAMP:20260424T150626Z
UID:35ab9e88-6689-44cf-90d6-6ca46231f066
DTSTART;VALUE=DATE:20210505
DTEND;VALUE=DATE:20210505
DESCRIPTION:Desert Downs BMX
LOCATION:8801 Railroad  El Paso TX 79924 USA
SUMMARY:Local Race Single
URL:/site/bmx_races/473183
END:VEVENT
END:VCALENDAR
