BEGIN:VCALENDAR
VERSION:2.0
PRODID:icalendar-ruby
CALSCALE:GREGORIAN
METHOD:PUBLISH
BEGIN:VEVENT
DTSTAMP:20260424T185944Z
UID:f5ee0255-9189-4c4b-adbc-f24f0824972d
DTSTART;VALUE=DATE:20210625
DTEND;VALUE=DATE:20210625
DESCRIPTION:Colorado River BMX
LOCATION:2230 Highland Dr  Bullhead City AZ 86442 USA
SUMMARY:Local Race Single
URL:/site/bmx_races/472916
END:VEVENT
END:VCALENDAR
