BEGIN:VCALENDAR
VERSION:2.0
PRODID:icalendar-ruby
CALSCALE:GREGORIAN
METHOD:PUBLISH
BEGIN:VEVENT
DTSTAMP:20260425T131135Z
UID:7b56f8c9-28f2-49e3-a4bc-009e99ac9bba
DTSTART;VALUE=DATE:20210605
DTEND;VALUE=DATE:20210605
DESCRIPTION:Emerald Valley BMX
LOCATION:2715 Leo Harris Pkwy  Eugene OR 97402 USA
SUMMARY:Local Race Single
URL:/site/bmx_races/472753
END:VEVENT
END:VCALENDAR
