BEGIN:VCALENDAR
VERSION:2.0
PRODID:icalendar-ruby
CALSCALE:GREGORIAN
METHOD:PUBLISH
BEGIN:VEVENT
DTSTAMP:20260424T131258Z
UID:103fa428-7b44-4aed-81a2-7009e142f226
DTSTART;VALUE=DATE:20210713
DTEND;VALUE=DATE:20210713
DESCRIPTION:Lexington BMX
LOCATION:1159 Nazareth Road  Lexington SC 29073 USA
SUMMARY:Local Race Single
URL:/site/bmx_races/472505
END:VEVENT
END:VCALENDAR
